BEGIN:VCALENDAR
VERSION:2.0
PRODID:icalendar-ruby
CALSCALE:GREGORIAN
METHOD:PUBLISH
BEGIN:VEVENT
DTSTAMP:20260424T160433Z
UID:9-391026@pocketpreschurch.com
DTSTART:20261011T150000Z
DTEND:20261011T160000Z
CLASS:PUBLIC
CREATED:20260424T111627
DESCRIPTION:Join us in worship each week at 11am in our sanctuary.
LAST-MODIFIED:20260424T111627
LOCATION:Pocket Presbyterian Church Sanctuary
SUMMARY:Sunday Worship
URL;VALUE=URI:https://www.pocketpreschurch.com/events/sunday-worship/2026-1
 0-11
ATTACH;FILENAME=271531885_4462958850498898_7519571768605122496_n.jpg;FMTTYP
 E=image/jpeg:https://dq5pwpg1q8ru0.cloudfront.net/2024/11/06/16/45/55/a1be
 c898-3c6e-44f6-8701-562ffd4a29e4/271531885_4462958850498898_75195717686051
 22496_n.jpg
END:VEVENT
END:VCALENDAR
