BEGIN:VCALENDAR
VERSION:2.0
PRODID:icalendar-ruby
CALSCALE:GREGORIAN
METHOD:PUBLISH
BEGIN:VEVENT
DTSTAMP:20260422T222947Z
UID:23-388084@pocketpreschurch.com
DTSTART:20260715T230000Z
DTEND:20260716T000000Z
CLASS:PUBLIC
CREATED:20260422T170732
DESCRIPTION:Join in worship leadership through music. Our choir meets each 
 Wednesday night at 7pm in the choir room. No previous experience or skill 
 level is required\, just a love of music! Contact Helen Kang or Cindy Haye
 s with questions.
LAST-MODIFIED:20260422T170732
LOCATION:Choir Room
SUMMARY:Choir Practice
URL;VALUE=URI:https://www.pocketpreschurch.com/events/choir-practice/2026-0
 7-15
ATTACH;FILENAME=Pocket-Choir.jpg;FMTTYPE=image/jpeg:https://dq5pwpg1q8ru0.c
 loudfront.net/2025/10/14/02/40/35/048867dc-e0df-4d0f-88a9-5158f356691b/Poc
 ket-Choir.jpg
END:VEVENT
END:VCALENDAR
